BEGIN:VCALENDAR
VERSION:2.0
PRODID:-//eventon.com NONSGML v1.0//EN
CALSCALE:GREGORIAN
METHOD:PUBLISH
BEGIN:VEVENT
UID:69e61fc4ea530
DTSTAMP:20260420T124452Z
DTSTART:20231018T093000Z
DTEND:20231018T103000Z
LOCATION:
SUMMARY:STRATEGY & PLANNING ACTION GROUP - Developing Insights (Member Event)
DESCRIPTION:&nbsp; Emma Martin\,  Group Client Director | What&#8217;s Poss
 ible Group Join our Member Lead Emma Martin (Group Client Director at What&
 #8217;s Possible Group) at our Q4 Strategy &amp; Planning session\,  for a 
 discussion about what an insight is and tools and techniques to get insight
 s out of data. About the[..]\nhttps://allindependentagencies.org/alliance-e
 vents/strategy-planning-action-group-q4-member-event/
URL:https://allindependentagencies.org/alliance-events/strategy-planning-action-group-q4-member-event/
END:VEVENT
END:VCALENDAR