BEGIN:VCALENDAR
VERSION:2.0
PRODID:-//eventon.com NONSGML v1.0//EN
CALSCALE:GREGORIAN
METHOD:PUBLISH
BEGIN:VEVENT
UID:69e888ada9d54
DTSTAMP:20260422T083701Z
DTSTART:20231019T093000Z
DTEND:20231019T103000Z
LOCATION:
SUMMARY:CEO Summit - What are the most meaning incentives for employees? (Member Event - By Invite Only)
DESCRIPTION:Dom Robertson | Managing Director at RPM Our guest chair at thi
 s quarters CEO Summit is Dom Robertson\,  MD at RPM &#8211; please find bel
 ow further information from Dom on the session: I am delighted to have been
  asked by the Alliance to host &amp; Chair the next CEO Summit[..]\nhttps:/
 /allindependentagencies.org/alliance-events/ceo-summit-q4-member-event/
URL:https://allindependentagencies.org/alliance-events/ceo-summit-q4-member-event/
END:VEVENT
END:VCALENDAR