BEGIN:VCALENDAR
VERSION:2.0
PRODID:-//eventon.com NONSGML v1.0//EN
CALSCALE:GREGORIAN
METHOD:PUBLISH
BEGIN:VEVENT
UID:69e606cc026c2
DTSTAMP:20260420T105820Z
DTSTART:20230926T083000Z
DTEND:20230926T093000Z
LOCATION:
SUMMARY:Alliance Member Pulse 2023 - The Findings
DESCRIPTION:Annabel Dunstan\,  Founder &amp; CEO | Question &amp; Retain Jo
 in us for our Member Pulse event where we will be joined by Annabel Dunstan
 \,  Founder &amp; CEO of Question &amp; Retain\,  to delve into the  feedb
 ack from our Alliance Member Agencies. The Member Pulse is an annual anonym
 ous survey (via[..]\nhttps://allindependentagencies.org/alliance-events/all
 iance-member-pulse-2023-the-findings/
URL:https://allindependentagencies.org/alliance-events/alliance-member-pulse-2023-the-findings/
END:VEVENT
END:VCALENDAR