BEGIN:VCALENDAR
VERSION:2.0
PRODID:-//eventon.com NONSGML v1.0//EN
CALSCALE:GREGORIAN
METHOD:PUBLISH
BEGIN:VEVENT
UID:69e4d837a93b5
DTSTAMP:20260419T132719Z
DTSTART:20231207T160000Z
DTEND:20231207T170000Z
LOCATION:
SUMMARY:How Top US Brands Leverage AI to Optimise Media with Contextualized Audio & Video Ads (Member Event)
DESCRIPTION:Join Alliance partner Instreamatic for this webinar on: How Top
  US Brands Leverage AI to Optimise Media with Contextualize Audio &amp; Vid
 eo Ads The focus of this webinar will be the innovative application of AI t
 o create highly contextualized audio and video ads\,  ensuring that they re
 sonate with audiences on[..]\nhttps://allindependentagencies.org/alliance-e
 vents/how-top-us-brands-leverage-ai-to-optimise-media-with-contextualize-au
 dio-video-ads-member-event/
URL:https://allindependentagencies.org/alliance-events/how-top-us-brands-leverage-ai-to-optimise-media-with-contextualize-audio-video-ads-member-event/
END:VEVENT
END:VCALENDAR