BEGIN:VCALENDAR
VERSION:2.0
PRODID:-//eventon.com NONSGML v1.0//EN
CALSCALE:GREGORIAN
METHOD:PUBLISH
BEGIN:VEVENT
UID:69e63028470c0
DTSTAMP:20260420T135448Z
DTSTART:20240215T093000Z
DTEND:20240215T103000Z
LOCATION:
SUMMARY:Is the current agency business model fit for purpose? CEO Summit (Member Event - By Invite Only)
DESCRIPTION:&nbsp; Caroline Johnson | Co-Founder at The Business Model Comp
 any Is the current agency business model fit for purpose? We are hearing mo
 re and more that the agency business model\,  based on ‘selling time’ u
 ndervalues the work of agencies. The first CEO Summit of 2024 (February 15t
 h) starts to address[..]\nhttps://allindependentagencies.org/alliance-event
 s/ceo-summit-q1-24/
URL:https://allindependentagencies.org/alliance-events/ceo-summit-q1-24/
END:VEVENT
END:VCALENDAR