BEGIN:VCALENDAR
VERSION:2.0
PRODID:-//eventon.com NONSGML v1.0//EN
CALSCALE:GREGORIAN
METHOD:PUBLISH
BEGIN:VEVENT
UID:69e6207b4bf92
DTSTAMP:20260420T124755Z
DTSTART:20240312T093000Z
DTEND:20240312T103000Z
LOCATION:
SUMMARY:Become a Champion of Independents - Meet the Alliance
DESCRIPTION:‘Meet The Alliance’ is an informal online session for anyon
 e curious about our purpose\,  our services and how we’re adding value da
 ily to our ever-expanding membership of over 100 ambitious\,  proudly indep
 endent agencies. There is always a lot going on at the Alliance of Independ
 ent Agencies. With 10 peer to[..]\nhttps://allindependentagencies.org/allia
 nce-events/meet-the-alliance-q1-2024/
URL:https://allindependentagencies.org/alliance-events/meet-the-alliance-q1-2024/
END:VEVENT
END:VCALENDAR