BEGIN:VCALENDAR
VERSION:2.0
PRODID:-//eventon.com NONSGML v1.0//EN
CALSCALE:GREGORIAN
METHOD:PUBLISH
BEGIN:VEVENT
UID:69ea0504354e9
DTSTAMP:20260423T113948Z
DTSTART:20240502T083000Z
DTEND:20240502T100000Z
LOCATION:Amigo Partnership - working from Southwark: 32 Blackfriars Road\,  London\,  SE1 8PB
SUMMARY:AI is an opportunity\,  not a threat\,  for independent agencies (Roundtable - Member Event) - By invite only
DESCRIPTION:[vc_row][vc_column][vc_column_text]Join the Alliance &amp; memb
 er agency Amigo Partnership for an in person working group to explore how A
 I can be seen as an opportunity\,  not a threat\,  for independent agencies
 . Independent agencies are agile\,  creative and free &#8211; how can we co
 mbine this with collective scale to keep independents ahead[..]\nhttps://al
 lindependentagencies.org/alliance-events/ai-roundtable-alliance-and-amigo-p
 artnership/
URL:https://allindependentagencies.org/alliance-events/ai-roundtable-alliance-and-amigo-partnership/
END:VEVENT
END:VCALENDAR