BEGIN:VCALENDAR
VERSION:2.0
PRODID:-//eventon.com NONSGML v1.0//EN
CALSCALE:GREGORIAN
METHOD:PUBLISH
BEGIN:VEVENT
UID:69e6209be6ec6
DTSTAMP:20260420T124827Z
DTSTART:20240905T093000Z
DTEND:20240905T123000Z
LOCATION:
SUMMARY:SEMINAR 6 - Creativity as a Driver for Success (VIRTUAL)
DESCRIPTION:WORKSHOP SLIDES Synopsis Creativity as a Driver for Success (Da
 vid Harris)\nhttps://allindependentagencies.org/alliance-events/seminar-6-c
 reativity-as-a-driver-for-success-virtual/
URL:https://allindependentagencies.org/alliance-events/seminar-6-creativity-as-a-driver-for-success-virtual/
END:VEVENT
END:VCALENDAR