BEGIN:VCALENDAR
VERSION:2.0
PRODID:-//eventon.com NONSGML v1.0//EN
CALSCALE:GREGORIAN
METHOD:PUBLISH
BEGIN:VEVENT
UID:69ed870373863
DTSTAMP:20260426T033115Z
DTSTART:20240718T160000Z
DTEND:20240718T170000Z
LOCATION:
SUMMARY:The "retail media revolution" what’s in it for Independent Agencies? – with Halo
DESCRIPTION:The &#8220;retail media revolution&#8221; what’s in it for In
 dependent Agencies? – with Halo The &#8220;retail media revolution&#8221;
  is here but what does it really mean for Independent Agencies and how can 
 they best position themselves to take advantage of this $61billion potentia
 l prize pot. Having operated in a very restrictive[..]\nhttps://allindepend
 entagencies.org/alliance-events/the-retail-media-revolution-whats-in-it-for
 -independent-agencies-with-halo/
URL:https://allindependentagencies.org/alliance-events/the-retail-media-revolution-whats-in-it-for-independent-agencies-with-halo/
END:VEVENT
END:VCALENDAR