BEGIN:VCALENDAR
VERSION:2.0
PRODID:-//eventon.com NONSGML v1.0//EN
CALSCALE:GREGORIAN
METHOD:PUBLISH
BEGIN:VEVENT
UID:69e601c414281
DTSTAMP:20260420T103652Z
DTSTART:20250211T093000Z
DTEND:20250211T103000Z
LOCATION:
SUMMARY:Outreach that works\,  a step by step demonstration.. - New Business Action Group
DESCRIPTION:Outreach that works\,  a step by step demonstration.. Join us f
 or the first New Business Action Group of 2025 where we will be joined by S
 ebastian Mackay and John Lyons. We will discuss and go through a step by st
 ep demonstration of how outreach works and to improve your new[..]\nhttps:/
 /allindependentagencies.org/alliance-events/outreach-that-works-a-step-by-s
 tep-demonstration-new-business-action-group/
URL:https://allindependentagencies.org/alliance-events/outreach-that-works-a-step-by-step-demonstration-new-business-action-group/
END:VEVENT
END:VCALENDAR