BEGIN:VCALENDAR
VERSION:2.0
PRODID:-//eventon.com NONSGML v1.0//EN
CALSCALE:GREGORIAN
METHOD:PUBLISH
BEGIN:VEVENT
UID:69e601ba91499
DTSTAMP:20260420T103642Z
DTSTART:20250206T093000Z
DTEND:20250206T103000Z
LOCATION:
SUMMARY:jfdi / Opinium New Business Barometer Results (Member Event)
DESCRIPTION:New Business Barometer Alliance Webinar We&#8217;re inviting al
 l Alliance members with responsibility for accelerating growth in 2025\,  t
 o join us for a review and roundtable discussion of the results from this y
 ear’s jfdi/Opinium New Business Barometer. How many pitches are being con
 verted in agencies similar to mine? Which levers are[..]\nhttps://allindepe
 ndentagencies.org/alliance-events/jfdi-opinium-new-business-barometer-resul
 ts-member-event/
URL:https://allindependentagencies.org/alliance-events/jfdi-opinium-new-business-barometer-results-member-event/
END:VEVENT
END:VCALENDAR