BEGIN:VCALENDAR
VERSION:2.0
PRODID:-//eventon.com NONSGML v1.0//EN
CALSCALE:GREGORIAN
METHOD:PUBLISH
BEGIN:VEVENT
UID:69e61c16eafc1
DTSTAMP:20260420T122910Z
DTSTART:20250923T083000Z
DTEND:20250923T093000Z
LOCATION:BAND BAND\,  111 Charterhouse Street\,  EC1M 6AW
SUMMARY:The changing face of the Finance function - What does Best Practice look like? - Commercial Action Group (Member Event)
DESCRIPTION:Join a Q&amp;A session that will be led by our Group Lead &#821
 1; Andrew Reeves\,  Fractional CFO – who will be joined by a panel of Fin
 ance Leaders and advisors. They will provide answers to the following quest
 ions and more besides. You can join face-to face (limited space – first[.
 .]\nhttps://allindependentagencies.org/alliance-events/the-changing-face-of
 -the-finance-function-what-does-best-practice-look-like/
URL:https://allindependentagencies.org/alliance-events/the-changing-face-of-the-finance-function-what-does-best-practice-look-like/
END:VEVENT
END:VCALENDAR