BEGIN:VCALENDAR
VERSION:2.0
PRODID:-//eventon.com NONSGML v1.0//EN
CALSCALE:GREGORIAN
METHOD:PUBLISH
BEGIN:VEVENT
UID:69e601d4d0bc3
DTSTAMP:20260420T103708Z
DTSTART:20251112T110000Z
DTEND:20251112T120000Z
LOCATION:
SUMMARY:Want self-serve\,  lower cost\,  broad and accurate 3rd party insight and activation? ...
DESCRIPTION:Want self-serve\,  lower cost\,  broad and accurate 3rd party i
 nsight and activation?  Find out what 250 agencies told Experian they need
  – and how their self-serve tools deliver exactly that Join Alliance of M
 edia Independents Official Partner: Experian Marketing Services for an Indi
 e focused webinar exploring the future of media[..]\nhttps://allindependent
 agencies.org/alliance-events/want-self-serve-lower-cost-broad-and-accurate-
 3rd-party-insight-and-activation-experian-webinar/
URL:https://allindependentagencies.org/alliance-events/want-self-serve-lower-cost-broad-and-accurate-3rd-party-insight-and-activation-experian-webinar/
END:VEVENT
END:VCALENDAR