BEGIN:VCALENDAR
VERSION:2.0
PRODID:-//eventon.com NONSGML v1.0//EN
CALSCALE:GREGORIAN
METHOD:PUBLISH
BEGIN:VEVENT
UID:69eca998b4f7d
DTSTAMP:20260425T114632Z
DTSTART:20260505T073000Z
DTEND:20260505T093000Z
LOCATION:Riding House Cafe 43-51 Great Titchfield St.\,  London W1W 7PQ
SUMMARY:How do we use AI without eroding our differentiator?
DESCRIPTION:Everyone wants to embrace AI innovation. But no one wants to ri
 sk losing customer data\,  weakening their unique edge\,  or getting things
  wrong on skills and GDPR. This small roundtable brings together independen
 t agency leaders to talk openly about the challenges in a safe space with p
 eers facing the same[..]\nhttps://allindependentagencies.org/alliance-event
 s/how-do-we-use-ai-without-eroding-our-differentiator-herdify-roundtable/
URL:https://allindependentagencies.org/alliance-events/how-do-we-use-ai-without-eroding-our-differentiator-herdify-roundtable/
END:VEVENT
END:VCALENDAR