BEGIN:VCALENDAR
VERSION:2.0
PRODID:-//eventon.com NONSGML v1.0//EN
CALSCALE:GREGORIAN
METHOD:PUBLISH
BEGIN:VEVENT
UID:69e588f073ae2
DTSTAMP:20260420T020120Z
DTSTART:20260415T083000Z
DTEND:20260415T093000Z
LOCATION:
SUMMARY:New inspiration for operational sustainability in agencies - Sustainability Action Group Q2 (Member Event)
DESCRIPTION:New inspiration for operational sustainability in agencies Elli
  Robinson\,  our Member Lead for the group &amp; PR Consultant at AMBITIOUS
  will be joined by Emily Greenwood\,  Head of Operations at Greenhouse Comm
 unications\,  the session will explore how Greenhouse has embedded sustaina
 bility into their operations: governance\,  policies\,  and team engagement
 . This[..]\nhttps://allindependentagencies.org/alliance-events/new-inspirat
 ion-for-operational-sustainability-in-agencies-sustainability-action-group-
 q2-member-event/
URL:https://allindependentagencies.org/alliance-events/new-inspiration-for-operational-sustainability-in-agencies-sustainability-action-group-q2-member-event/
END:VEVENT
END:VCALENDAR