BEGIN:VCALENDAR
VERSION:2.0
PRODID:-//eventon.com NONSGML v1.0//EN
CALSCALE:GREGORIAN
METHOD:PUBLISH
BEGIN:VEVENT
UID:69ec97c3c8f74
DTSTAMP:20260425T103027Z
DTSTART:20260602T160000Z
DTEND:20260602T170000Z
LOCATION:
SUMMARY:Present Under Pressure – How to Perform When It Matters Most - GreenJam (Member Event)
DESCRIPTION:Present Under Pressure – How to Perform When It Matters Most 
 After years of screen-led communication\,  its time to get back into the ro
 om &amp; many people are rediscovering that presenting in person takes a di
 fferent set of skills. From reading the room and holding attention to commu
 nicating with confidence[..]\nhttps://allindependentagencies.org/alliance-e
 vents/stepping-away-from-the-screen-in-person-presentation-skills-that-make
 -an-impact/
URL:https://allindependentagencies.org/alliance-events/stepping-away-from-the-screen-in-person-presentation-skills-that-make-an-impact/
END:VEVENT
END:VCALENDAR