BEGIN:VCALENDAR
VERSION:2.0
PRODID:-//eventon.com NONSGML v1.0//EN
CALSCALE:GREGORIAN
METHOD:PUBLISH
BEGIN:VEVENT
UID:69e5ded933c5d
DTSTAMP:20260420T080753Z
DTSTART:20230614T093000Z
DTEND:20230614T110000Z
LOCATION:
SUMMARY:TALENT ACTION GROUP - Co creating the best in class progression framework (Member Event)
DESCRIPTION:Rebecca Brennan | COO\,  Kyan Co Creating The Best In Class Pro
 gression Framework. This session will be focused on sharing the good and le
 ss good examples of how progression is managed in agencies. The output of t
 he session will be to agree on an agency template and best practice princip
 les[..]\nhttps://allindependentagencies.org/alliance-events/talent-action-g
 roup-co-creating-the-best-in-class-progression-framework-member-event/
URL:https://allindependentagencies.org/alliance-events/talent-action-group-co-creating-the-best-in-class-progression-framework-member-event/
END:VEVENT
END:VCALENDAR